BEGIN:VCALENDAR
VERSION:2.0
PRODID:-//The Punt Factory - ECPv6.14.0//NONSGML v1.0//EN
CALSCALE:GREGORIAN
METHOD:PUBLISH
X-ORIGINAL-URL:https://puntfactory.com
X-WR-CALDESC:Events for The Punt Factory
REFRESH-INTERVAL;VALUE=DURATION:PT1H
X-Robots-Tag:noindex
X-PUBLISHED-TTL:PT1H
BEGIN:VTIMEZONE
TZID:America/Chicago
BEGIN:DAYLIGHT
TZOFFSETFROM:-0600
TZOFFSETTO:-0500
TZNAME:CDT
DTSTART:20230312T080000
END:DAYLIGHT
BEGIN:STANDARD
TZOFFSETFROM:-0500
TZOFFSETTO:-0600
TZNAME:CST
DTSTART:20231105T070000
END:STANDARD
END:VTIMEZONE
BEGIN:VTIMEZONE
TZID:America/Los_Angeles
BEGIN:DAYLIGHT
TZOFFSETFROM:-0800
TZOFFSETTO:-0700
TZNAME:PDT
DTSTART:20220313T100000
END:DAYLIGHT
BEGIN:STANDARD
TZOFFSETFROM:-0700
TZOFFSETTO:-0800
TZNAME:PST
DTSTART:20221106T090000
END:STANDARD
END:VTIMEZONE
BEGIN:VEVENT
DTSTART;TZID=America/Chicago:20230319T080000
DTEND;TZID=America/Chicago:20230319T130000
DTSTAMP:20260421T113951
CREATED:20230124T203157Z
LAST-MODIFIED:20230124T203157Z
UID:1616-1679212800-1679230800@puntfactory.com
SUMMARY:Seattle - Spring PuntFactory Camp 2023
DESCRIPTION:Full one-day PuntFactory Camp. \nCamp goes from 8am-1pm at Shorecrest High School in Seattle\, Washington\, check-in begins at 8am on Sunday\, March 19th 2023. \nTraining\, evaluation\, game simulation punts\, holding work\, charting and competition.  ALL participants will receive a ranking as a punter on ChrisSailerKicking.com
URL:https://puntfactory.com/camp/seattle-spring-puntfactory-camp-2023/
LOCATION:Shorecrest High School\, 15343 25th Ave NE\, Shoreline\, WA\, 98155\, United States
END:VEVENT
BEGIN:VEVENT
DTSTART;TZID=America/Los_Angeles:20221120T080000
DTEND;TZID=America/Los_Angeles:20221120T130000
DTSTAMP:20260421T113951
CREATED:20220715T234224Z
LAST-MODIFIED:20221102T003918Z
UID:1406-1668931200-1668949200@puntfactory.com
SUMMARY:Seattle - Fall Camp 2022
DESCRIPTION:Full one-day PuntFactory Camp. \nCamp goes from 8am-1pm at Shorecrest High School in Seattle Washington\, check-in begins at 8am. \nTraining\, evaluation\, game simulation punts\, holding work\, charting and competition.  ALL participants will receive a ranking as a punter on ChrisSailerKicking.com
URL:https://puntfactory.com/camp/seattle-fall-camp-2022/
LOCATION:Shorecrest High School\, 15343 25th Ave NE\, Shoreline\, WA\, 98155\, United States
END:VEVENT
BEGIN:VEVENT
DTSTART;TZID=America/Los_Angeles:20220403T080000
DTEND;TZID=America/Los_Angeles:20220403T130000
DTSTAMP:20260421T113951
CREATED:20211230T012316Z
LAST-MODIFIED:20211230T012316Z
UID:1206-1648972800-1648990800@puntfactory.com
SUMMARY:Seattle - Spring Camp 2022
DESCRIPTION:Full one-day PuntFactory Camp. \nCamp goes from 8am-1pm at Kellogg Middle School in Shoreline Washington \nInstruction\, Development\, Charting\, Competition & Rankings / Evaluation.
URL:https://puntfactory.com/camp/seattle-spring-camp-2022/
LOCATION:Shorecrest High School\, 15343 25th Ave NE\, Shoreline\, WA\, 98155\, United States
END:VEVENT
END:VCALENDAR