BEGIN:VCALENDAR
VERSION:2.0
PRODID:-//The Punt Factory - ECPv6.14.0//NONSGML v1.0//EN
CALSCALE:GREGORIAN
METHOD:PUBLISH
X-ORIGINAL-URL:https://puntfactory.com
X-WR-CALDESC:Events for The Punt Factory
REFRESH-INTERVAL;VALUE=DURATION:PT1H
X-Robots-Tag:noindex
X-PUBLISHED-TTL:PT1H
BEGIN:VTIMEZONE
TZID:America/Los_Angeles
BEGIN:DAYLIGHT
TZOFFSETFROM:-0800
TZOFFSETTO:-0700
TZNAME:PDT
DTSTART:20210314T100000
END:DAYLIGHT
BEGIN:STANDARD
TZOFFSETFROM:-0700
TZOFFSETTO:-0800
TZNAME:PST
DTSTART:20211107T090000
END:STANDARD
END:VTIMEZONE
BEGIN:VEVENT
DTSTART;TZID=America/Los_Angeles:20211212T080000
DTEND;TZID=America/Los_Angeles:20211212T130000
DTSTAMP:20260421T102728
CREATED:20210721T230352Z
LAST-MODIFIED:20210721T230352Z
UID:1033-1639296000-1639314000@puntfactory.com
SUMMARY:Chicago - Fall Camp 2021
DESCRIPTION:Full one-day PuntFactory Camp. \nCamp goes from 8am-1pm at Rosemount Dome \nInstruction\, Development\, Charting\, Competition & Rankings / Evaluation.
URL:https://puntfactory.com/camp/chicago-fall-camp-2021/
LOCATION:Rosemount Dome\, Chicago\, IL\, United States
END:VEVENT
END:VCALENDAR