BEGIN:VCALENDAR
VERSION:2.0
PRODID:-//The Punt Factory - ECPv6.14.0//NONSGML v1.0//EN
CALSCALE:GREGORIAN
METHOD:PUBLISH
X-WR-CALNAME:The Punt Factory
X-ORIGINAL-URL:https://puntfactory.com
X-WR-CALDESC:Events for The Punt Factory
REFRESH-INTERVAL;VALUE=DURATION:PT1H
X-Robots-Tag:noindex
X-PUBLISHED-TTL:PT1H
BEGIN:VTIMEZONE
TZID:America/Los_Angeles
BEGIN:DAYLIGHT
TZOFFSETFROM:-0800
TZOFFSETTO:-0700
TZNAME:PDT
DTSTART:20210314T100000
END:DAYLIGHT
BEGIN:STANDARD
TZOFFSETFROM:-0700
TZOFFSETTO:-0800
TZNAME:PST
DTSTART:20211107T090000
END:STANDARD
BEGIN:DAYLIGHT
TZOFFSETFROM:-0800
TZOFFSETTO:-0700
TZNAME:PDT
DTSTART:20220313T100000
END:DAYLIGHT
BEGIN:STANDARD
TZOFFSETFROM:-0700
TZOFFSETTO:-0800
TZNAME:PST
DTSTART:20221106T090000
END:STANDARD
BEGIN:DAYLIGHT
TZOFFSETFROM:-0800
TZOFFSETTO:-0700
TZNAME:PDT
DTSTART:20230312T100000
END:DAYLIGHT
BEGIN:STANDARD
TZOFFSETFROM:-0700
TZOFFSETTO:-0800
TZNAME:PST
DTSTART:20231105T090000
END:STANDARD
BEGIN:DAYLIGHT
TZOFFSETFROM:-0800
TZOFFSETTO:-0700
TZNAME:PDT
DTSTART:20240310T100000
END:DAYLIGHT
BEGIN:STANDARD
TZOFFSETFROM:-0700
TZOFFSETTO:-0800
TZNAME:PST
DTSTART:20241103T090000
END:STANDARD
BEGIN:DAYLIGHT
TZOFFSETFROM:-0800
TZOFFSETTO:-0700
TZNAME:PDT
DTSTART:20250309T100000
END:DAYLIGHT
BEGIN:STANDARD
TZOFFSETFROM:-0700
TZOFFSETTO:-0800
TZNAME:PST
DTSTART:20251102T090000
END:STANDARD
BEGIN:DAYLIGHT
TZOFFSETFROM:-0800
TZOFFSETTO:-0700
TZNAME:PDT
DTSTART:20260308T100000
END:DAYLIGHT
BEGIN:STANDARD
TZOFFSETFROM:-0700
TZOFFSETTO:-0800
TZNAME:PST
DTSTART:20261101T090000
END:STANDARD
END:VTIMEZONE
BEGIN:VTIMEZONE
TZID:America/Chicago
BEGIN:DAYLIGHT
TZOFFSETFROM:-0600
TZOFFSETTO:-0500
TZNAME:CDT
DTSTART:20230312T080000
END:DAYLIGHT
BEGIN:STANDARD
TZOFFSETFROM:-0500
TZOFFSETTO:-0600
TZNAME:CST
DTSTART:20231105T070000
END:STANDARD
BEGIN:DAYLIGHT
TZOFFSETFROM:-0600
TZOFFSETTO:-0500
TZNAME:CDT
DTSTART:20240310T080000
END:DAYLIGHT
BEGIN:STANDARD
TZOFFSETFROM:-0500
TZOFFSETTO:-0600
TZNAME:CST
DTSTART:20241103T070000
END:STANDARD
BEGIN:DAYLIGHT
TZOFFSETFROM:-0600
TZOFFSETTO:-0500
TZNAME:CDT
DTSTART:20250309T080000
END:DAYLIGHT
BEGIN:STANDARD
TZOFFSETFROM:-0500
TZOFFSETTO:-0600
TZNAME:CST
DTSTART:20251102T070000
END:STANDARD
END:VTIMEZONE
BEGIN:VEVENT
DTSTART;TZID=America/Los_Angeles:20260126T180000
DTEND;TZID=America/Los_Angeles:20260204T120000
DTSTAMP:20260421T093605
CREATED:20251230T014748Z
LAST-MODIFIED:20251230T014748Z
UID:2914-1769450400-1770206400@puntfactory.com
SUMMARY:6th Annual PuntFactory Pre-Draft Training Camp
DESCRIPTION:This will be the 6th Annual week long PuntFactory Training Camp designed primarily for graduating college seniors + NFL free-agents preparing for Pro-Days\, combines\, workouts etc. \nThis year we are also welcoming any current collegiate punters / punters in the transfer portal who want to come down for any amount of days in order to train and compete and also get film for potential schools. \nAt this training camp we rent an AirBNB and stay together as a group. We eat together\, watch film together and the boys can workout together. \nThe week consists of 6-7 on field training sessions. Group sessions\, small group sessions and mock combines/workouts. This allows us to prepare not only the punting aspect but the mental readiness as well for anything coming up. \nTentative Schedule: \nMonday\, january 26th – Arrive to Orlando\, check into AirBNB\, first group session\nTuesday\, Jan 27th – Mock Combine #1\nWednesday\, Jan 28th – Small Group Sessions\nThursday\, Jan 29th – Off-Day/Lifting\nFriday\, Jan 30th –  Small group sessions\nSaturday\, Jan 31st – Mock Pro-Day\nSunday\, February 1st – Off-Day/Lifting\nMonday\, February 2nd – Group Session\nTuesday\, February 3rd – Off-Day/Lifting\nWednesday\, February 4th – Mock Combine #2 then Leave! \nWhere: Orlando\, FL (Train at NE Regional Park)\nWhen: Jan 26th-Feb 4th\nWho: all draft-eligible college seniors\, NFL Free-Agents\, Current college players / transfer portal punters\nCost: $600 \nAny questions\, comments and concerns please text/call Aaron Perez at 818.321.6750 or email ThePuntFactory@gmail.com
URL:https://puntfactory.com/camp/6th-annual-puntfactory-pre-draft-training-camp/
LOCATION:NorthEast Regional Park\, Orlando\, FL\, United States
END:VEVENT
BEGIN:VEVENT
DTSTART;TZID=America/Chicago:20250124T160000
DTEND;TZID=America/Chicago:20250202T160000
DTSTAMP:20260421T093605
CREATED:20241221T164843Z
LAST-MODIFIED:20241221T164843Z
UID:2565-1737734400-1738512000@puntfactory.com
SUMMARY:4th Annual PuntFactory NFL/College Training Camp - 2025
DESCRIPTION:This will be the 4th Annual week long PuntFactory Training Camp designed primarily for graduating college seniors + NFL free-agents preparing for Pro-Days\, combines\, workouts etc. This year we are also welcoming any current collegiate punters who want to come down for any amount of days in order to train and compete. \nAt this training camp we rent an AirBNB and stay together as a group. We eat together\, watch film together and the boys can workout together. \nThe week consists of 7-8 on field training sessions. Group sessions\, small group sessions and mock combines/workouts. This allows us to prepare not only the punting aspect but the mental readiness as well for anything coming up. \nTentative Schedule: \nFriday\, Jan 24th – Arrive to Orlando\, check into AirBNB\, first group session\nSaturday\, Jan 25th – Small group sessions\nSunday\, Jan 26th – Mock Combine #1\nMonday\, Jan 27th – Off-Day/Lifting\nTuesday\, Jan 28th –  Small group sessions\nWednesday\, Jan 29th – Mock Pro-Day\nThursday\, Jan 30th – Off-Day/Lifting\nFriday\, Jan 31st – Group Session\nSaturday\, Feb 1st – Off-Day/Lifting\nSunday\, Feb 2nd – Mock Combine #2 \nWhere: Orlando\, FL (Train at NE Regional Park)\nWhen: Jan 24th-Feb 2nd\nWho: all draft-eligible college seniors\, NFL Free-Agents\, College Players\nCost: $600 \nAny questions\, comments and concerns please text/call Aaron Perez at 818.321.6750 or email ThePuntFactory@gmail.com
URL:https://puntfactory.com/camp/4th-annual-puntfactory-nfl-college-training-camp-2025/
LOCATION:NorthEast Regional Park\, Orlando\, FL\, United States
END:VEVENT
BEGIN:VEVENT
DTSTART;TZID=America/Chicago:20230203T160000
DTEND;TZID=America/Chicago:20230210T160000
DTSTAMP:20260421T093605
CREATED:20230109T203142Z
LAST-MODIFIED:20230118T192307Z
UID:1590-1675440000-1676044800@puntfactory.com
SUMMARY:College Senior & NFL Free-Agent Training
DESCRIPTION:This is a week long training program designed to prepare current college seniors and NFL Free-Agents for upcoming combines\, senior showcases\, pro-days etc. We will have group sessions\, individual private workouts as well as mock combines throughout the week. Sessions begin Friday\, February 3rd and run until Friday\, February 10th.
URL:https://puntfactory.com/camp/college-senior-nfl-free-agent-training/
LOCATION:NorthEast Regional Park\, Orlando\, FL\, United States
ORGANIZER;CN="Aaron Perez":MAILTO:ThePuntfactory@gmail.com
END:VEVENT
BEGIN:VEVENT
DTSTART;TZID=America/Los_Angeles:20221106T080000
DTEND;TZID=America/Los_Angeles:20221106T130000
DTSTAMP:20260421T093605
CREATED:20220715T233534Z
LAST-MODIFIED:20220716T004909Z
UID:1398-1667721600-1667739600@puntfactory.com
SUMMARY:Orlando - Fall Camp 2022
DESCRIPTION:Full one-day PuntFactory Camp. \nCamp goes from 8am-1pm at NE Regional Park in Orlando Florida\, check-in begins at 8am. \nTraining\, evaluation\, game simulation punts\, holding work\, charting and competition.  ALL participants will receive a ranking as a punter on ChrisSailerKicking.com
URL:https://puntfactory.com/camp/orlando-fall-camp-2022/
LOCATION:NorthEast Regional Park\, Orlando\, FL\, United States
END:VEVENT
BEGIN:VEVENT
DTSTART;TZID=America/Los_Angeles:20211024T080000
DTEND;TZID=America/Los_Angeles:20211024T130000
DTSTAMP:20260421T093605
CREATED:20210721T225310Z
LAST-MODIFIED:20210721T225337Z
UID:1025-1635062400-1635080400@puntfactory.com
SUMMARY:Orlando - Fall Camp 2021
DESCRIPTION:Full one-day PuntFactory Camp. \nCamp goes from 8am-1pm at NorthEast Regional Park \nInstruction\, Development\, Charting\, Competition & Rankings / Evaluation.
URL:https://puntfactory.com/camp/orlando-fall-camp-2021/
LOCATION:NorthEast Regional Park\, Orlando\, FL\, United States
END:VEVENT
END:VCALENDAR