BEGIN:VCALENDAR
VERSION:2.0
PRODID:-//The Punt Factory - ECPv6.14.0//NONSGML v1.0//EN
CALSCALE:GREGORIAN
METHOD:PUBLISH
X-WR-CALNAME:The Punt Factory
X-ORIGINAL-URL:https://puntfactory.com
X-WR-CALDESC:Events for The Punt Factory
REFRESH-INTERVAL;VALUE=DURATION:PT1H
X-Robots-Tag:noindex
X-PUBLISHED-TTL:PT1H
BEGIN:VTIMEZONE
TZID:America/Los_Angeles
BEGIN:DAYLIGHT
TZOFFSETFROM:-0800
TZOFFSETTO:-0700
TZNAME:PDT
DTSTART:20210314T100000
END:DAYLIGHT
BEGIN:STANDARD
TZOFFSETFROM:-0700
TZOFFSETTO:-0800
TZNAME:PST
DTSTART:20211107T090000
END:STANDARD
BEGIN:DAYLIGHT
TZOFFSETFROM:-0800
TZOFFSETTO:-0700
TZNAME:PDT
DTSTART:20220313T100000
END:DAYLIGHT
BEGIN:STANDARD
TZOFFSETFROM:-0700
TZOFFSETTO:-0800
TZNAME:PST
DTSTART:20221106T090000
END:STANDARD
BEGIN:DAYLIGHT
TZOFFSETFROM:-0800
TZOFFSETTO:-0700
TZNAME:PDT
DTSTART:20230312T100000
END:DAYLIGHT
BEGIN:STANDARD
TZOFFSETFROM:-0700
TZOFFSETTO:-0800
TZNAME:PST
DTSTART:20231105T090000
END:STANDARD
BEGIN:DAYLIGHT
TZOFFSETFROM:-0800
TZOFFSETTO:-0700
TZNAME:PDT
DTSTART:20240310T100000
END:DAYLIGHT
BEGIN:STANDARD
TZOFFSETFROM:-0700
TZOFFSETTO:-0800
TZNAME:PST
DTSTART:20241103T090000
END:STANDARD
BEGIN:DAYLIGHT
TZOFFSETFROM:-0800
TZOFFSETTO:-0700
TZNAME:PDT
DTSTART:20250309T100000
END:DAYLIGHT
BEGIN:STANDARD
TZOFFSETFROM:-0700
TZOFFSETTO:-0800
TZNAME:PST
DTSTART:20251102T090000
END:STANDARD
END:VTIMEZONE
BEGIN:VTIMEZONE
TZID:America/Chicago
BEGIN:DAYLIGHT
TZOFFSETFROM:-0600
TZOFFSETTO:-0500
TZNAME:CDT
DTSTART:20230312T080000
END:DAYLIGHT
BEGIN:STANDARD
TZOFFSETFROM:-0500
TZOFFSETTO:-0600
TZNAME:CST
DTSTART:20231105T070000
END:STANDARD
BEGIN:DAYLIGHT
TZOFFSETFROM:-0600
TZOFFSETTO:-0500
TZNAME:CDT
DTSTART:20240310T080000
END:DAYLIGHT
BEGIN:STANDARD
TZOFFSETFROM:-0500
TZOFFSETTO:-0600
TZNAME:CST
DTSTART:20241103T070000
END:STANDARD
BEGIN:DAYLIGHT
TZOFFSETFROM:-0600
TZOFFSETTO:-0500
TZNAME:CDT
DTSTART:20250309T080000
END:DAYLIGHT
BEGIN:STANDARD
TZOFFSETFROM:-0500
TZOFFSETTO:-0600
TZNAME:CST
DTSTART:20251102T070000
END:STANDARD
END:VTIMEZONE
BEGIN:VEVENT
DTSTART;TZID=America/Los_Angeles:20250921T083000
DTEND;TZID=America/Los_Angeles:20250921T123000
DTSTAMP:20260421T114742
CREATED:20250530T125226Z
LAST-MODIFIED:20250530T125226Z
UID:2778-1758443400-1758457800@puntfactory.com
SUMMARY:2025 Fall Houston PuntFactory Camp
DESCRIPTION:Full one-day PuntFactory Camp on Sunday\, September 21st\, 2025. \nCamp goes from 8am-1pm at Manvel HS in Manvel\, TX. Check-in begins at 8:30m. \nTentative One Day Camp Schedule:\n\n8:30-8:45am: Check In / Headshots for Website\n8:45am-9:00am: Warm Up\n9:15-12:30pm: Training\, Evaluation\, Instruction\, Competitions\n12:30pm-1pm: Camp Wrap Up\n\nAll players will receive a t-shirt and a ranking on ChrisSailerKicking.com as a punter!
URL:https://puntfactory.com/camp/2025-fall-houston-puntfactory-camp/
LOCATION:Manvel High School\, 19601 Hwy 6\, Manvel\, TX\, 77578
END:VEVENT
BEGIN:VEVENT
DTSTART;TZID=America/Chicago:20250330T080000
DTEND;TZID=America/Chicago:20250330T130000
DTSTAMP:20260421T114742
CREATED:20241208T153047Z
LAST-MODIFIED:20241208T153047Z
UID:2517-1743321600-1743339600@puntfactory.com
SUMMARY:2025 Spring Houston PuntFactory Camp
DESCRIPTION:Full one-day PuntFactory Camp on Sunday\, March 30th\, 2025. \nCamp goes from 8am-1pm at Manvel HS in Manvel\, TX. Check-in begins at 8am. \nTentative One Day Camp Schedule:\n\n8am-8:30am: Check In / Headshots for Website\n8:30am-9am: Recruiting Discussion with Players & Parents\n9am-9:15am: Warm Up\n9:15-12:30pm: Training\, Evaluation\, Instruction\, Competitions\n12:30pm-1pm: Camp Wrap Up\n\nAll players will receive a t-shirt and a ranking on ChrisSailerKicking.com as a punter!
URL:https://puntfactory.com/camp/2025-spring-houston-puntfactory-camp/
LOCATION:Manvel High School\, 19601 Hwy 6\, Manvel\, TX\, 77578
END:VEVENT
BEGIN:VEVENT
DTSTART;TZID=America/Chicago:20241110T080000
DTEND;TZID=America/Chicago:20241110T130000
DTSTAMP:20260421T114742
CREATED:20240709T215619Z
LAST-MODIFIED:20240709T215619Z
UID:2273-1731225600-1731243600@puntfactory.com
SUMMARY:Fall Houston PuntFactory Camp
DESCRIPTION:Full one-day PuntFactory Camp on Sunday\, November 10th\, 2024. \nCamp goes from 8am-1pm at Manvel HS in Manvel\, TX. Check-in begins at 8am. \nTentative One Day Camp Schedule:\n\n8am-8:30am: Check In / Headshots for Website\n8:30am-9am: Recruiting Discussion with Players & Parents\n9am-9:15am: Warm Up\n9:15-12:30pm: Training\, Evaluation\, Instruction\, Competitions\n12:30pm-1pm: Camp Wrap Up\n\nAll players will receive a t-shirt and a ranking on ChrisSailerKicking.com as a punter!
URL:https://puntfactory.com/camp/fall-houston-puntfactory-camp/
LOCATION:Manvel High School\, 19601 Hwy 6\, Manvel\, TX\, 77578
END:VEVENT
BEGIN:VEVENT
DTSTART;TZID=America/Chicago:20240421T080000
DTEND;TZID=America/Chicago:20240421T130000
DTSTAMP:20260421T114742
CREATED:20231215T054932Z
LAST-MODIFIED:20231215T054932Z
UID:2110-1713686400-1713704400@puntfactory.com
SUMMARY:Houston - Spring PuntFactory Camp 2024
DESCRIPTION:Full one-day PuntFactory Camp on Sunday\, April 21\, 2024. \nCamp goes from 8am-1pm at Manvel HS in Manvel\, TX\, check-in begins at 8am. \nTentative One Day Camp Schedule:\n\n8am-8:30am: Check In / Headshots for Website\n8:30am-9am: Introduction / Recruiting Discussion with Players & Parents\n9am-9:15am: Warm Up\n9:15-12:30pm: Training\, Evaluation\, Instruction\, Competitions\n12:30pm-1pm: Camp Wrap Up\n\nAll players will receive a t-shirt and a ranking on ChrisSailerKicking.com as a punter!
URL:https://puntfactory.com/camp/houston-spring-puntfactory-camp-2024/
LOCATION:Manvel High School\, 19601 Hwy 6\, Manvel\, TX\, 77578
END:VEVENT
BEGIN:VEVENT
DTSTART;TZID=America/Chicago:20230623T160000
DTEND;TZID=America/Chicago:20230625T160000
DTSTAMP:20260421T114742
CREATED:20230415T042617Z
LAST-MODIFIED:20230415T042617Z
UID:1754-1687536000-1687708800@puntfactory.com
SUMMARY:3rd Annual College Punter Weekend
DESCRIPTION:College punters\, here we go! \nThis will be the 3rd ANNUAL COLLEGE PUNTER WEEKEND! \nDuring this awesome three-day event in Houston we will train\, we will compete\, we will review film\, we will eat together at Honores (a great tradition!) and we wil GET BETTER! \nSome past participants have been Ryan Wright (Minnesota Vikings)\, Dan Whelan (DC Defenders -XFL)\, Seth Vernon (NFL Free Agent)\, Issac Power (Baylor)\, Andy Vujnovich (Wisconsin) and so many more awesome guys! \nWhen: June 23-25 \nWhere: Houston\, TX (Manvel HS) \nAirport: Houston Hobby is best if possible! \nTentative schedule: \nFriday\, June 23 – 2 sessions (4-5\, 5-6) \nSaturday June 24 – 2-3 sessions (8-930\, 930-11\, 11-1230) then DINNER at Honores Cajun Cafe! \nSunday June 25 – 1 big group session (8-1030) \nI can not wait to get to work boys! \nCall/text Aaron for more info! 818-321-6750 \nLINK TO YOUTUBE VIDEO OF YEAR 1 – https://youtu.be/M3ayrnKZMt8
URL:https://puntfactory.com/camp/3rd-annual-college-punter-weekend/
LOCATION:Manvel High School\, 19601 Hwy 6\, Manvel\, TX\, 77578
END:VEVENT
BEGIN:VEVENT
DTSTART;TZID=America/Chicago:20230326T080000
DTEND;TZID=America/Chicago:20230326T110000
DTSTAMP:20260421T114742
CREATED:20230125T010531Z
LAST-MODIFIED:20230125T010627Z
UID:1622-1679817600-1679828400@puntfactory.com
SUMMARY:Houston - Spring Puntfactory Camp 2023
DESCRIPTION:Full one-day PuntFactory Camp. \nCamp goes from 8am-1pm at Manvel High School in Houston Texas on Sunday\, March 26th 2023. Check-in begins at 8am. \nTraining\, evaluation\, game simulation punts\, holding work\, charting and competition.  ALL participants will receive a ranking as a punter on ChrisSailerKicking.com
URL:https://puntfactory.com/camp/houston-spring-puntfactory-camp-2023/
LOCATION:Manvel High School\, 19601 Hwy 6\, Manvel\, TX\, 77578
END:VEVENT
BEGIN:VEVENT
DTSTART;TZID=America/Los_Angeles:20221016T080000
DTEND;TZID=America/Los_Angeles:20221016T130000
DTSTAMP:20260421T114742
CREATED:20220715T234511Z
LAST-MODIFIED:20220824T235049Z
UID:1409-1665907200-1665925200@puntfactory.com
SUMMARY:Houston - Fall Camp 2022
DESCRIPTION:Full one-day PuntFactory Camp. \nCamp goes from 8am-1pm at Manvel High School in Houston Texas\, check-in begins at 8am. \nTraining\, evaluation\, game simulation punts\, holding work\, charting and competition.  ALL participants will receive a ranking as a punter on ChrisSailerKicking.com
URL:https://puntfactory.com/camp/houston-fall-camp-2022/
LOCATION:Manvel High School\, 19601 Hwy 6\, Manvel\, TX\, 77578
END:VEVENT
BEGIN:VEVENT
DTSTART;TZID=America/Los_Angeles:20220320T080000
DTEND;TZID=America/Los_Angeles:20220320T130000
DTSTAMP:20260421T114742
CREATED:20211230T011951Z
LAST-MODIFIED:20211230T011951Z
UID:1203-1647763200-1647781200@puntfactory.com
SUMMARY:Houston - Spring Camp 2022
DESCRIPTION:Full one-day PuntFactory Camp.* \nCamp goes from 8am-1pm at Manvel HS\, Manvel Texas \nInstruction\, Development\, Charting\, Competition & Rankings / Evaluation. \nLocation:\nManvel High School\n19601 Hwy 6\, \nManvel\, TX 77578
URL:https://puntfactory.com/camp/houston-spring-camp-2022/
LOCATION:Manvel High School\, 19601 Hwy 6\, Manvel\, TX\, 77578
END:VEVENT
BEGIN:VEVENT
DTSTART;TZID=America/Los_Angeles:20211114T080000
DTEND;TZID=America/Los_Angeles:20211114T130000
DTSTAMP:20260421T114742
CREATED:20210721T225647Z
LAST-MODIFIED:20211113T003408Z
UID:1030-1636876800-1636894800@puntfactory.com
SUMMARY:Houston - Fall Camp 2021
DESCRIPTION:Full one-day PuntFactory Camp.* \nCamp goes from 8am-1pm at a location TBD! \nInstruction\, Development\, Charting\, Competition & Rankings / Evaluation. \nLocation:\nManvel High School\n19601 Hwy 6\, \nManvel\, TX 77578
URL:https://puntfactory.com/camp/houston-fall-camp-2021/
LOCATION:Manvel High School\, 19601 Hwy 6\, Manvel\, TX\, 77578
END:VEVENT
END:VCALENDAR