BEGIN:VCALENDAR
VERSION:2.0
PRODID:-//The Punt Factory - ECPv6.14.0//NONSGML v1.0//EN
CALSCALE:GREGORIAN
METHOD:PUBLISH
X-WR-CALNAME:The Punt Factory
X-ORIGINAL-URL:https://puntfactory.com
X-WR-CALDESC:Events for The Punt Factory
REFRESH-INTERVAL;VALUE=DURATION:PT1H
X-Robots-Tag:noindex
X-PUBLISHED-TTL:PT1H
BEGIN:VTIMEZONE
TZID:America/Chicago
BEGIN:DAYLIGHT
TZOFFSETFROM:-0600
TZOFFSETTO:-0500
TZNAME:CDT
DTSTART:20230312T080000
END:DAYLIGHT
BEGIN:STANDARD
TZOFFSETFROM:-0500
TZOFFSETTO:-0600
TZNAME:CST
DTSTART:20231105T070000
END:STANDARD
BEGIN:DAYLIGHT
TZOFFSETFROM:-0600
TZOFFSETTO:-0500
TZNAME:CDT
DTSTART:20240310T080000
END:DAYLIGHT
BEGIN:STANDARD
TZOFFSETFROM:-0500
TZOFFSETTO:-0600
TZNAME:CST
DTSTART:20241103T070000
END:STANDARD
END:VTIMEZONE
BEGIN:VEVENT
DTSTART;TZID=America/Chicago:20240414T083000
DTEND;TZID=America/Chicago:20240414T130000
DTSTAMP:20260421T132156
CREATED:20231215T054125Z
LAST-MODIFIED:20240320T174947Z
UID:2102-1713083400-1713099600@puntfactory.com
SUMMARY:Virginia Beach - Spring PuntFactory Camp 2024
DESCRIPTION:Full one-day PuntFactory Camp on Sunday\, April 14th\, 2024 \nCamp goes from 8:30am-1pm at Hampton Roads Soccer Complex. Check-in begins at 8am. \nTentative One Day Camp Schedule:\n\n8:30am-8:45am: Check In / Headshots for Website\n8:45am-9am: Introductions / Recruiting Discussion with Players & Parents\n9am-9:15am: Warm Up\n9:15-12:30pm: Training\, Evaluation\, Instruction\, Competitions\n12:30pm-1pm: Camp Wrap Up\n\nAll players will receive a t-shirt and a ranking on ChrisSailerKicking.com as a punter!
URL:https://puntfactory.com/camp/virginia-beach-spring-puntfactory-camp-2024/
LOCATION:Hampton Roads Soccer Complex\, 2276 Recreation Drive\, Virginia Beach\, VA\, 23456\, United States
END:VEVENT
BEGIN:VEVENT
DTSTART;TZID=America/Chicago:20231029T080000
DTEND;TZID=America/Chicago:20231029T130000
DTSTAMP:20260421T132156
CREATED:20230728T004729Z
LAST-MODIFIED:20231017T025020Z
UID:1837-1698566400-1698584400@puntfactory.com
SUMMARY:Virginia Beach - Fall PuntFactory Camp 2023
DESCRIPTION:Full one-day PuntFactory Camp on Sunday\, October 29th from 8am-1pm! \nCamp goes from 8am-1pm at Hampton Roads Soccer Complex\, Field 18. Check-in begins at 8am. \nTentative One Day Camp Schedule:\n\n8am-8:30am: Check In / Headshots for Website\n8:30am-9am: Recruiting Discussion with Players & Parents\n9am-9:15am: Warm Up\n9:15-12:30pm: Training\, Evaluation\, Instruction\, Competitions\n12:30pm-1pm: Camp Wrap Up\n\nAll players will receive a t-shirt and a ranking on ChrisSailerKicking.com as a punter!
URL:https://puntfactory.com/camp/virginia-beach-fall-puntfactory-camp-2023/
LOCATION:Hampton Roads Soccer Complex\, 2276 Recreation Drive\, Virginia Beach\, VA\, 23456\, United States
END:VEVENT
END:VCALENDAR