BEGIN:VCALENDAR
VERSION:2.0
PRODID:-//The Punt Factory - ECPv6.14.0//NONSGML v1.0//EN
CALSCALE:GREGORIAN
METHOD:PUBLISH
X-ORIGINAL-URL:https://puntfactory.com
X-WR-CALDESC:Events for The Punt Factory
REFRESH-INTERVAL;VALUE=DURATION:PT1H
X-Robots-Tag:noindex
X-PUBLISHED-TTL:PT1H
BEGIN:VTIMEZONE
TZID:America/Los_Angeles
BEGIN:DAYLIGHT
TZOFFSETFROM:-0800
TZOFFSETTO:-0700
TZNAME:PDT
DTSTART:20240310T100000
END:DAYLIGHT
BEGIN:STANDARD
TZOFFSETFROM:-0700
TZOFFSETTO:-0800
TZNAME:PST
DTSTART:20241103T090000
END:STANDARD
BEGIN:DAYLIGHT
TZOFFSETFROM:-0800
TZOFFSETTO:-0700
TZNAME:PDT
DTSTART:20250309T100000
END:DAYLIGHT
BEGIN:STANDARD
TZOFFSETFROM:-0700
TZOFFSETTO:-0800
TZNAME:PST
DTSTART:20251102T090000
END:STANDARD
END:VTIMEZONE
BEGIN:VEVENT
DTSTART;TZID=America/Los_Angeles:20251026T083000
DTEND;TZID=America/Los_Angeles:20251026T130000
DTSTAMP:20260421T145807
CREATED:20250508T221856Z
LAST-MODIFIED:20250508T221856Z
UID:2758-1761467400-1761483600@puntfactory.com
SUMMARY:Fall Seattle PuntFactory Camp
DESCRIPTION:Full one-day PuntFactory Camp on Sunday\, October 26th\, 2025. \nCamp goes from 9am-1pm at Franklin HS in Seattle\, WA. Check-in begins at 8:30am. \nTentative One Day Camp Schedule:\n\n8:30am-8:45amam: Check In / Headshots for Website\n8:45am-9am: Warm Up\n9:00am-12:30pm: Training\, Evaluation\, Instruction\, Competitions\n12:30pm-1pm: Camp Wrap Up\n\nAll players will receive a t-shirt and a ranking on ChrisSailerKicking.com as a punter!
URL:https://puntfactory.com/camp/fall-seattle-puntfactory-camp-2/
LOCATION:franklin high school\, 3013 S Mt. Baker Blvd\, Seattle\, WA\, 98144\, United States
END:VEVENT
BEGIN:VEVENT
DTSTART;TZID=America/Los_Angeles:20241027T080000
DTEND;TZID=America/Los_Angeles:20241027T130000
DTSTAMP:20260421T145807
CREATED:20240709T215030Z
LAST-MODIFIED:20240709T215030Z
UID:2266-1730016000-1730034000@puntfactory.com
SUMMARY:Fall Seattle PuntFactory Camp
DESCRIPTION:Full one-day PuntFactory Camp on Sunday\, October 27th\, 2024. \nCamp goes from 8am-1pm at Franklin HS in Seattle\, WA. Check-in begins at 8am. \nTentative One Day Camp Schedule:\n\n8am-8:30am: Check In / Headshots for Website\n8:30am-9am: Recruiting Discussion with Players & Parents\n9am-9:15am: Warm Up\n9:15-12:30pm: Training\, Evaluation\, Instruction\, Competitions\n12:30pm-1pm: Camp Wrap Up\n\nAll players will receive a t-shirt and a ranking on ChrisSailerKicking.com as a punter!
URL:https://puntfactory.com/camp/fall-seattle-puntfactory-camp/
LOCATION:franklin high school\, 3013 S Mt. Baker Blvd\, Seattle\, WA\, 98144\, United States
END:VEVENT
END:VCALENDAR