BEGIN:VCALENDAR
VERSION:2.0
PRODID:-//The Punt Factory - ECPv6.14.0//NONSGML v1.0//EN
CALSCALE:GREGORIAN
METHOD:PUBLISH
X-WR-CALNAME:The Punt Factory
X-ORIGINAL-URL:https://puntfactory.com
X-WR-CALDESC:Events for The Punt Factory
REFRESH-INTERVAL;VALUE=DURATION:PT1H
X-Robots-Tag:noindex
X-PUBLISHED-TTL:PT1H
BEGIN:VTIMEZONE
TZID:America/Chicago
BEGIN:DAYLIGHT
TZOFFSETFROM:-0600
TZOFFSETTO:-0500
TZNAME:CDT
DTSTART:20250309T080000
END:DAYLIGHT
BEGIN:STANDARD
TZOFFSETFROM:-0500
TZOFFSETTO:-0600
TZNAME:CST
DTSTART:20251102T070000
END:STANDARD
END:VTIMEZONE
BEGIN:VEVENT
DTSTART;TZID=America/Chicago:20250216T090000
DTEND;TZID=America/Chicago:20250216T130000
DTSTAMP:20260421T164222
CREATED:20241208T152801Z
LAST-MODIFIED:20250209T231924Z
UID:2513-1739696400-1739710800@puntfactory.com
SUMMARY:2025 Spring NorCal Punting Camp
DESCRIPTION:Full one-day PuntFactory Camp on Sunday\, February 16th\, 2025. \nCamp goes from 9am-1pm at Diablo Valley Middle School in Danville\, CA. Check-in begins at 830am. \nTentative One Day Camp Schedule:\n\n8:30am-8:45am: Check In / Headshots for Website\n8:45am-9:00am: Warm Up\n9:00-12:30pm: Training\, Evaluation\, Instruction\, Competitions\n12:30pm-1pm: Camp Wrap Up\n\nAll players will receive a t-shirt and a ranking on ChrisSailerKicking.com as a punter!
URL:https://puntfactory.com/camp/2025-spring-norcal-punting-camp/
LOCATION:Diablo Valley Middle School\, 4100 Camino Tassajara\, Danville\, 94506
END:VEVENT
END:VCALENDAR