BEGIN:VCALENDAR
VERSION:2.0
PRODID:-//The Punt Factory - ECPv6.14.0//NONSGML v1.0//EN
CALSCALE:GREGORIAN
METHOD:PUBLISH
X-ORIGINAL-URL:https://puntfactory.com
X-WR-CALDESC:Events for The Punt Factory
REFRESH-INTERVAL;VALUE=DURATION:PT1H
X-Robots-Tag:noindex
X-PUBLISHED-TTL:PT1H
BEGIN:VTIMEZONE
TZID:UTC
BEGIN:STANDARD
TZOFFSETFROM:+0000
TZOFFSETTO:+0000
TZNAME:UTC
DTSTART:20210101T000000
END:STANDARD
END:VTIMEZONE
BEGIN:VEVENT
DTSTART;TZID=UTC:20210501T080000
DTEND;TZID=UTC:20210501T130000
DTSTAMP:20260420T195254
CREATED:20201221T053419Z
LAST-MODIFIED:20210124T215145Z
UID:463-1619856000-1619874000@puntfactory.com
SUMMARY:Chicago Camp
DESCRIPTION:One day PuntFactory Camp in Crown Point\, IN. Camp will go from 8am-1pm \nTraining\, development\, competition and charting will be done at each camp. \nEach participant will receive a Puntfactory T-Shirt! \nCamp schedule (Tentative) \n8-830: Check In\n830-9: Introduction & Warm Up\n9-1130: Instruction & Training\n1130-1: Charting & Competition.
URL:https://puntfactory.com/camp/chicago-camp/
LOCATION:Crown Point Sports Complex – Turf Field “B”\, 1313 E. North Street\, Crown Point\, IN\, 46307\, United States
END:VEVENT
END:VCALENDAR