BEGIN:VCALENDAR
VERSION:2.0
PRODID:-//The Punt Factory - ECPv6.14.0//NONSGML v1.0//EN
CALSCALE:GREGORIAN
METHOD:PUBLISH
X-WR-CALNAME:The Punt Factory
X-ORIGINAL-URL:https://puntfactory.com
X-WR-CALDESC:Events for The Punt Factory
REFRESH-INTERVAL;VALUE=DURATION:PT1H
X-Robots-Tag:noindex
X-PUBLISHED-TTL:PT1H
BEGIN:VTIMEZONE
TZID:America/Chicago
BEGIN:DAYLIGHT
TZOFFSETFROM:-0600
TZOFFSETTO:-0500
TZNAME:CDT
DTSTART:20240310T080000
END:DAYLIGHT
BEGIN:STANDARD
TZOFFSETFROM:-0500
TZOFFSETTO:-0600
TZNAME:CST
DTSTART:20241103T070000
END:STANDARD
END:VTIMEZONE
BEGIN:VEVENT
DTSTART;TZID=America/Chicago:20241019T123000
DTEND;TZID=America/Chicago:20241019T170000
DTSTAMP:20260421T131158
CREATED:20240901T202553Z
LAST-MODIFIED:20240901T202553Z
UID:2394-1729341000-1729357200@puntfactory.com
SUMMARY:Fall Salt Lake City PuntFactory Camp
DESCRIPTION:Full one-day PuntFactory Camp on Saturday\, October 19th\, 2024. \nCamp goes from 12:30pm-5pm at Cottonwood HS in Murray\, UT. Check-in begins at 12:30pm. \nTentative One Day Camp Schedule:\n\n12:30pm-12:45pm: Check In / Headshots for Website\n12:45pm-1pm: Introduction with Players & Parents\n1pm-1:15pm: Warm Up\n1:15pm-4:30pm: Training\, Evaluation\, Instruction\, Competitions\n4:30pm-5pm: Camp Wrap Up\n\nAll players will receive a t-shirt and a ranking on ChrisSailerKicking.com as a punter!
URL:https://puntfactory.com/camp/fall-salt-lake-city-puntfactory-camp/
LOCATION:Cottonwood HS\, 5715 S 1300 E\, Murray\, UT\, 84121\, United States
END:VEVENT
END:VCALENDAR